BEGIN:VCALENDAR
VERSION:2.0
PRODID:-//The Greater St. Louis Pest Control Association - ECPv6.15.1.1//NONSGML v1.0//EN
CALSCALE:GREGORIAN
METHOD:PUBLISH
X-ORIGINAL-URL:https://gslpca.org
X-WR-CALDESC:Events for The Greater St. Louis Pest Control Association
REFRESH-INTERVAL;VALUE=DURATION:PT1H
X-Robots-Tag:noindex
X-PUBLISHED-TTL:PT1H
BEGIN:VTIMEZONE
TZID:UTC
BEGIN:STANDARD
TZOFFSETFROM:+0000
TZOFFSETTO:+0000
TZNAME:UTC
DTSTART:20190101T000000
END:STANDARD
END:VTIMEZONE
BEGIN:VEVENT
DTSTART;TZID=UTC:20190212T170000
DTEND;TZID=UTC:20190212T190000
DTSTAMP:20260423T154121
CREATED:20190325T183751Z
LAST-MODIFIED:20190325T183751Z
UID:161-1549990800-1549998000@gslpca.org
SUMMARY:Board Meeting
DESCRIPTION:
URL:https://gslpca.org/event/board-meeting/
LOCATION:Syberg’s
END:VEVENT
BEGIN:VEVENT
DTSTART;TZID=UTC:20190125T170000
DTEND;TZID=UTC:20190125T200000
DTSTAMP:20260423T154121
CREATED:20190325T183242Z
LAST-MODIFIED:20190325T183424Z
UID:155-1548435600-1548446400@gslpca.org
SUMMARY:Installation Banquet
DESCRIPTION:
URL:https://gslpca.org/event/jan-24/
LOCATION:Andre’s West
END:VEVENT
END:VCALENDAR