BEGIN:VCALENDAR
VERSION:2.0
PRODID:-//The Greater St. Louis Pest Control Association - ECPv6.15.1.1//NONSGML v1.0//EN
CALSCALE:GREGORIAN
METHOD:PUBLISH
X-WR-CALNAME:The Greater St. Louis Pest Control Association
X-ORIGINAL-URL:https://gslpca.org
X-WR-CALDESC:Events for The Greater St. Louis Pest Control Association
REFRESH-INTERVAL;VALUE=DURATION:PT1H
X-Robots-Tag:noindex
X-PUBLISHED-TTL:PT1H
BEGIN:VTIMEZONE
TZID:UTC
BEGIN:STANDARD
TZOFFSETFROM:+0000
TZOFFSETTO:+0000
TZNAME:UTC
DTSTART:20190101T000000
END:STANDARD
END:VTIMEZONE
BEGIN:VEVENT
DTSTART;TZID=UTC:20200512T180000
DTEND;TZID=UTC:20200512T180000
DTSTAMP:20260423T221937
CREATED:20191118T163038Z
LAST-MODIFIED:20191118T163038Z
UID:272-1589306400-1589306400@gslpca.org
SUMMARY:Board Meeting
DESCRIPTION:
URL:https://gslpca.org/event/board-meeting-6/
LOCATION:Syberg’s
END:VEVENT
BEGIN:VEVENT
DTSTART;TZID=UTC:20200302T170000
DTEND;TZID=UTC:20200302T170000
DTSTAMP:20260423T221937
CREATED:20191118T162902Z
LAST-MODIFIED:20191118T162902Z
UID:270-1583168400-1583168400@gslpca.org
SUMMARY:Social Gathering
DESCRIPTION:
URL:https://gslpca.org/event/social-gathering/
LOCATION:The Post Sports Bar\, Creve Coeur\, MO
END:VEVENT
BEGIN:VEVENT
DTSTART;TZID=UTC:20200211T170000
DTEND;TZID=UTC:20200211T170000
DTSTAMP:20260423T221937
CREATED:20191118T162020Z
LAST-MODIFIED:20191118T162020Z
UID:268-1581440400-1581440400@gslpca.org
SUMMARY:Board Meeting
DESCRIPTION:
URL:https://gslpca.org/event/board-meeting-5/
LOCATION:Syberg’s
END:VEVENT
BEGIN:VEVENT
DTSTART;TZID=UTC:20200123T170000
DTEND;TZID=UTC:20200123T220000
DTSTAMP:20260423T221937
CREATED:20191118T161751Z
LAST-MODIFIED:20191118T165818Z
UID:266-1579798800-1579816800@gslpca.org
SUMMARY:Annual Banquet
DESCRIPTION:
URL:https://gslpca.org/event/annual-banquet/
LOCATION:Andre’s West
END:VEVENT
BEGIN:VEVENT
DTSTART;TZID=UTC:20191210T170000
DTEND;TZID=UTC:20191210T190000
DTSTAMP:20260423T221937
CREATED:20190325T185839Z
LAST-MODIFIED:20191209T173934Z
UID:192-1575997200-1576004400@gslpca.org
SUMMARY:Trivia Night
DESCRIPTION:
URL:https://gslpca.org/event/short-educational-session-running-a-business-things-to-know/
LOCATION:The Post Sports Bar\, Creve Coeur\, MO
END:VEVENT
BEGIN:VEVENT
DTSTART;VALUE=DATE:20191203
DTEND;VALUE=DATE:20191206
DTSTAMP:20260423T221937
CREATED:20190325T185711Z
LAST-MODIFIED:20190813T141719Z
UID:189-1575331200-1575590399@gslpca.org
SUMMARY:Winter Recertification with MPMA
DESCRIPTION:
URL:https://gslpca.org/event/winter-recertification-w-mpma/
LOCATION:River City Casino Hotel\, 777 River City Casino Blvd.\, St. Louis\, Missouri\, 63125
END:VEVENT
BEGIN:VEVENT
DTSTART;TZID=UTC:20191112T170000
DTEND;TZID=UTC:20191112T190000
DTSTAMP:20260423T221937
CREATED:20190325T185615Z
LAST-MODIFIED:20190325T185615Z
UID:187-1573578000-1573585200@gslpca.org
SUMMARY:Board Meeting
DESCRIPTION:
URL:https://gslpca.org/event/board-meeting-4/
LOCATION:Syberg’s
END:VEVENT
BEGIN:VEVENT
DTSTART;TZID=UTC:20191022T170000
DTEND;TZID=UTC:20191022T190000
DTSTAMP:20260423T221937
CREATED:20190325T185533Z
LAST-MODIFIED:20190325T185533Z
UID:185-1571763600-1571770800@gslpca.org
SUMMARY:Review of NPMA Pest World - Hot topics from the National Conference
DESCRIPTION:
URL:https://gslpca.org/event/review-of-npma-pest-world-hot-topics-from-the-national-conference/
LOCATION:The Post Sports Bar\, Creve Coeur\, MO
END:VEVENT
BEGIN:VEVENT
DTSTART;TZID=UTC:20191004T180000
DTEND;TZID=UTC:20191004T220000
DTSTAMP:20260423T221937
CREATED:20190325T185350Z
LAST-MODIFIED:20190325T185350Z
UID:182-1570212000-1570226400@gslpca.org
SUMMARY:Boots on the Diamond Grizzlies
DESCRIPTION:
URL:https://gslpca.org/event/boots-on-the-diamond-grizzlies/
LOCATION:GCS Stadium
END:VEVENT
BEGIN:VEVENT
DTSTART;TZID=UTC:20190813T170000
DTEND;TZID=UTC:20190813T190000
DTSTAMP:20260423T221937
CREATED:20190325T185219Z
LAST-MODIFIED:20190325T185219Z
UID:180-1565715600-1565722800@gslpca.org
SUMMARY:Board Meeting
DESCRIPTION:
URL:https://gslpca.org/event/board-meeting-3/
LOCATION:Syberg’s
END:VEVENT
BEGIN:VEVENT
DTSTART;VALUE=DATE:20190725
DTEND;VALUE=DATE:20190726
DTSTAMP:20260423T221937
CREATED:20190325T185116Z
LAST-MODIFIED:20190325T185116Z
UID:178-1564012800-1564099199@gslpca.org
SUMMARY:Summer Recertification
DESCRIPTION:
URL:https://gslpca.org/event/summer-recertification/
LOCATION:Andre’s West
END:VEVENT
BEGIN:VEVENT
DTSTART;TZID=UTC:20190709T170000
DTEND;TZID=UTC:20190709T220000
DTSTAMP:20260423T221937
CREATED:20190325T184924Z
LAST-MODIFIED:20190325T184924Z
UID:176-1562691600-1562709600@gslpca.org
SUMMARY:Trivia Night
DESCRIPTION:
URL:https://gslpca.org/event/trivia-night/
LOCATION:The Post Sports Bar\, Creve Coeur\, MO
END:VEVENT
BEGIN:VEVENT
DTSTART;VALUE=DATE:20190603
DTEND;VALUE=DATE:20190604
DTSTAMP:20260423T221937
CREATED:20190325T184646Z
LAST-MODIFIED:20190509T151345Z
UID:171-1559520000-1559606399@gslpca.org
SUMMARY:27th Annual Golf Tournament
DESCRIPTION:Click here for the Golf Flyer
URL:https://gslpca.org/event/27th-annual-golf-tournament/
LOCATION:The Falls at Turtle Creek\, O'Fallon\, MO
END:VEVENT
BEGIN:VEVENT
DTSTART;TZID=UTC:20190514T170000
DTEND;TZID=UTC:20190514T190000
DTSTAMP:20260423T221937
CREATED:20190325T184344Z
LAST-MODIFIED:20190325T184344Z
UID:169-1557853200-1557860400@gslpca.org
SUMMARY:Board Meeting
DESCRIPTION:
URL:https://gslpca.org/event/board-meeting-2/
LOCATION:Syberg’s
END:VEVENT
BEGIN:VEVENT
DTSTART;VALUE=DATE:20190401
DTEND;VALUE=DATE:20190501
DTSTAMP:20260423T221937
CREATED:20190325T184242Z
LAST-MODIFIED:20190325T184242Z
UID:167-1554076800-1556668799@gslpca.org
SUMMARY:National Pest Management Month
DESCRIPTION:
URL:https://gslpca.org/event/national-pest-management-month/
LOCATION:MO
END:VEVENT
BEGIN:VEVENT
DTSTART;TZID=UTC:20190305T170000
DTEND;TZID=UTC:20190305T190000
DTSTAMP:20260423T221937
CREATED:20190325T184006Z
LAST-MODIFIED:20190325T184006Z
UID:164-1551805200-1551812400@gslpca.org
SUMMARY:The Sports Bar
DESCRIPTION:
URL:https://gslpca.org/event/the-sports-bar/
LOCATION:The Post Sports Bar\, Creve Coeur\, MO
END:VEVENT
BEGIN:VEVENT
DTSTART;TZID=UTC:20190212T170000
DTEND;TZID=UTC:20190212T190000
DTSTAMP:20260423T221937
CREATED:20190325T183751Z
LAST-MODIFIED:20190325T183751Z
UID:161-1549990800-1549998000@gslpca.org
SUMMARY:Board Meeting
DESCRIPTION:
URL:https://gslpca.org/event/board-meeting/
LOCATION:Syberg’s
END:VEVENT
BEGIN:VEVENT
DTSTART;TZID=UTC:20190125T170000
DTEND;TZID=UTC:20190125T200000
DTSTAMP:20260423T221937
CREATED:20190325T183242Z
LAST-MODIFIED:20190325T183424Z
UID:155-1548435600-1548446400@gslpca.org
SUMMARY:Installation Banquet
DESCRIPTION:
URL:https://gslpca.org/event/jan-24/
LOCATION:Andre’s West
END:VEVENT
END:VCALENDAR